BEGIN:VCALENDAR
VERSION:2.0
PRODID:-//Squarespace Inc/Squarespace 6//v6//EN
BEGIN:VEVENT
UID:5fc842ba7ff5a343ebeef592@squarespace.com
DTSTAMP:20210117T203617Z
DTSTART:20210225T160000Z
DTEND:20210415T150000Z
SUMMARY:iRest Mindfulness and Meditation (8 Week Course)
END:VEVENT
END:VCALENDAR
