BEGIN:VCALENDAR
VERSION:2.0
PRODID:-//Squarespace Inc/Squarespace 6//v6//EN
BEGIN:VEVENT
UID:5f1116a03ceb94180537bb36@squarespace.com
DTSTAMP:20200717T051742Z
DTSTART:20200829T140000Z
DTEND:20200829T203000Z
SUMMARY:Embodied Self-Care Retreat
END:VEVENT
END:VCALENDAR
