BEGIN:VCALENDAR
VERSION:2.0
PRODID:-//Squarespace Inc/Squarespace 6//v6//EN
BEGIN:VEVENT
UID:5eec8cbaecea7773b3a56ca7@squarespace.com
DTSTAMP:20200619T100100Z
DTSTART:20200729T233000Z
DTEND:20200730T003000Z
SUMMARY:Yoga for Trauma Recovery Online (8 week group for males)
END:VEVENT
END:VCALENDAR
