BEGIN:VCALENDAR
VERSION:2.0
PRODID:-//Squarespace Inc/Squarespace 6//v6//EN
BEGIN:VEVENT
UID:5eb8ab9c181d7d1aa6c15193@squarespace.com
DTSTAMP:20200511T013438Z
DTSTART:20200717T144500Z
DTEND:20200717T154500Z
SUMMARY:iRest Yoga Nidra Community Class 
GEO:-36.855059;174.734161
LOCATION:Basecamp Yoga\, 18 Westmoreland Street West\, Auckland\, Auckland\
 , 1021\, New Zealand
END:VEVENT
END:VCALENDAR
