BEGIN:VCALENDAR
VERSION:2.0
PRODID:-//Squarespace Inc/Squarespace 6//v6//EN
BEGIN:VEVENT
UID:5dc1dee95e0dd4415cd9c2ab@squarespace.com
DTSTAMP:20200108T004437Z
DTSTART:20200212T213000Z
DTEND:20200212T223000Z
SUMMARY:Trauma Sensitive Yoga (8-week group)\, Option A - Remuera 
GEO:-36.8809;174.79716
LOCATION:Contemporary Yoga\, 351 Remuera Road\, Auckland\, Auckland\, 1050\
 , New Zealand
END:VEVENT
END:VCALENDAR
