BEGIN:VCALENDAR
VERSION:2.0
PRODID:-//Squarespace Inc/Squarespace 6//v6//EN
BEGIN:VEVENT
UID:5f6abd9cd17cb05cb146091c@squarespace.com
DTSTAMP:20200923T031456Z
DTSTART:20201015T180000Z
DTEND:20201015T190000Z
SUMMARY:Trauma Sensitive Yoga (8 week course) 
GEO:-36.865149;174.737527
LOCATION:yoga ground\, grey lynn
END:VEVENT
END:VCALENDAR
