BEGIN:VCALENDAR
VERSION:2.0
PRODID:-//Squarespace Inc/Squarespace 6//v6//EN
BEGIN:VEVENT
UID:5bfcb40c032be46a2c16cf0d@squarespace.com
DTSTAMP:20190210T205602Z
DTSTART:20190220T230000Z
DTEND:20190221T000000Z
SUMMARY:Trauma Sensitive Yoga (8-week course) FULL
GEO:-36.714529;174.748499
LOCATION:Contemporary Yoga Centre\, 351 Remuera Road\, Auckland\, Auckland\
 , 1050\, New Zealand
END:VEVENT
END:VCALENDAR
