BEGIN:VCALENDAR
VERSION:2.0
PRODID:-//Squarespace Inc/Squarespace 6//v6//EN
BEGIN:VEVENT
UID:5bfcb4106d2a736f2eace354@squarespace.com
DTSTAMP:20190210T204815Z
DTSTART:20190220T210000Z
DTEND:20190220T220000Z
SUMMARY:Trauma Sensitive Yoga (8-week course) FULL
GEO:-36.8809;174.79716
LOCATION:Contemporary Yoga\, 351 Remuera Road\, Auckland\, Auckland\, 1050\
 , New Zealand
END:VEVENT
END:VCALENDAR
