BEGIN:VCALENDAR
VERSION:2.0
PRODID:-//Squarespace Inc/Squarespace 6//v6//EN
BEGIN:VEVENT
UID:5dc1e096ff787b36d9f3aa6b@squarespace.com
DTSTAMP:20200129T021127Z
DTSTART:20200221T154500Z
DTEND:20200221T163000Z
SUMMARY:iRest Yoga Nidra Community Class
GEO:-36.855059;174.734161
LOCATION:Basecamp Power Yoga\, 18 Westmoreland Street West\, Auckland\, Auc
 kland\, 1021\, New Zealand
END:VEVENT
END:VCALENDAR
