BEGIN:VCALENDAR
VERSION:2.0
PRODID:-//Squarespace Inc/Squarespace 6//v6//EN
BEGIN:VEVENT
UID:5bfcb4b1758d46ac4858f1d4@squarespace.com
DTSTAMP:20190210T205613Z
DTSTART:20190222T033000Z
DTEND:20190222T043000Z
SUMMARY:iRest Yoga Meditation and Mindfulness (8-week course) FULL
GEO:-36.862785;174.734519
LOCATION:Sacred Space\, 56 Surrey Crescent\, Auckland\, Auckland\, 1021\, N
 ew Zealand
END:VEVENT
END:VCALENDAR
