BEGIN:VCALENDAR
VERSION:2.0
PRODID:-//Squarespace Inc/Squarespace 6//v6//EN
BEGIN:VEVENT
UID:5c8f28b98165f58729389f2e@squarespace.com
DTSTAMP:20190704T053415Z
DTSTART:20190725T151500Z
DTEND:20190725T161500Z
SUMMARY:iRest Yoga Meditation and Mindfulness (8-week course) with Sandra P
 almer and Bridget McNamara
GEO:-36.862785;174.734519
LOCATION:Sacred Space\, 56 Surrey Crescent\, Auckland\, Auckland\, 1021\, N
 ew Zealand
END:VEVENT
END:VCALENDAR
