BEGIN:VCALENDAR
VERSION:2.0
PRODID:-//Squarespace Inc/Squarespace 6//v6//EN
BEGIN:VEVENT
UID:5cf892033f486d00012d2060@squarespace.com
DTSTAMP:20190606T041140Z
DTSTART:20190726T190000Z
DTEND:20190726T200000Z
SUMMARY:Youth Yoga with Hannah Crerar and Bridget McNamara (6-week course) 
GEO:-36.856489;174.74272
LOCATION:Sala Yoga\, 1/56 Brown Street\, Grey Lynn\, New Zealand
END:VEVENT
END:VCALENDAR
