BEGIN:VCALENDAR
VERSION:2.0
PRODID:-//Squarespace Inc/Squarespace 6//v6//EN
BEGIN:VEVENT
UID:5bfcb3874d7a9c537d7184a4@squarespace.com
DTSTAMP:20190210T205715Z
DTSTART:20190219T163000Z
DTEND:20190219T163000Z
SUMMARY:Trauma Sensitive Yoga (8-week course) FULL
GEO:-36.714529;174.748499
LOCATION:Yoga Within\, 81 Clyde Road\, Auckland\, New Zealand
END:VEVENT
END:VCALENDAR
