BEGIN:VCALENDAR
VERSION:2.0
PRODID:-//Squarespace Inc/Squarespace 6//v6//EN
BEGIN:VEVENT
UID:5c5d0fd5652dea1f4a54052d@squarespace.com
DTSTAMP:20190210T205417Z
DTSTART:20190501T220000Z
DTEND:20190501T230000Z
SUMMARY:Trauma Sensitive Yoga (8-week course)
GEO:-36.8809;174.79716
LOCATION:Contemporary Yoga\, 351 Remuera Road\, Auckland\, Auckland\, 1050\
 , New Zealand
END:VEVENT
END:VCALENDAR
