BEGIN:VCALENDAR
VERSION:2.0
PRODID:-//Squarespace Inc/Squarespace 6//v6//EN
BEGIN:VEVENT
UID:5c608f096e9a7f581503b826@squarespace.com
DTSTAMP:20190210T205636Z
DTSTART:20190501T203000Z
DTEND:20190501T213000Z
SUMMARY:Trauma Sensitive Yoga (8-week course)
GEO:-36.8809;174.79716
LOCATION:Contemporary Yoga\, 351 Remuera Road\, Auckland\, Auckland\, 1050\
 , New Zealand
END:VEVENT
END:VCALENDAR
