BEGIN:VCALENDAR
VERSION:2.0
PRODID:-//Squarespace Inc/Squarespace 6//v6//EN
BEGIN:VEVENT
UID:5c8f286b104c7b066ebcaef4@squarespace.com
DTSTAMP:20190704T053334Z
DTSTART:20190724T203000Z
DTEND:20190724T213000Z
SUMMARY:Trauma Sensitive Yoga (8-week course) with Bridget McNamara and San
 dra Palmer
GEO:-36.8809;174.79716
LOCATION:Contemporary Yoga\, 351 Remuera Road\, Auckland\, Auckland\, 1050\
 , New Zealand
END:VEVENT
END:VCALENDAR
