BEGIN:VCALENDAR
VERSION:2.0
PRODID:-//Squarespace Inc/Squarespace 6//v6//EN
BEGIN:VEVENT
UID:5c8f2918e4966b4eaeea89b5@squarespace.com
DTSTAMP:20190704T053350Z
DTSTART:20190724T220000Z
DTEND:20190724T230000Z
SUMMARY:Trauma Sensitive Yoga (8-week course) with Sandra Palmer and Bridge
 t McNamara
GEO:-36.8809;174.79716
LOCATION:Contemporary Yoga\, 351 Remuera Road\, Auckland\, Auckland\, 1050\
 , New Zealand
END:VEVENT
END:VCALENDAR
