BEGIN:VCALENDAR
VERSION:2.0
PRODID:-//Squarespace Inc/Squarespace 6//v6//EN
BEGIN:VEVENT
UID:5c5d0f18a4222f3c564ce270@squarespace.com
DTSTAMP:20190704T053316Z
DTSTART:20190722T153000Z
DTEND:20190722T163000Z
SUMMARY:Trauma Sensitive Yoga (8-week course) with Jessica Devi and Bridget 
 McNamara
GEO:-36.714529;174.748499
LOCATION:Yoga Within\, 81 Clyde Road\, Auckland\, New Zealand
END:VEVENT
END:VCALENDAR
