BEGIN:VCALENDAR
VERSION:2.0
PRODID:-//Squarespace Inc/Squarespace 6//v6//EN
BEGIN:VEVENT
UID:5d41361555459000015ae0b0@squarespace.com
DTSTAMP:20190903T052206Z
DTSTART:20191016T220000Z
DTEND:20191016T230000Z
SUMMARY:Trauma Sensitive Yoga\, Option B - Remuera (8-week course)
GEO:40.720756;-74.000761
LOCATION:Contemporary Yoga
END:VEVENT
END:VCALENDAR
