BEGIN:VCALENDAR
VERSION:2.0
PRODID:-//Squarespace Inc/Squarespace 6//v6//EN
BEGIN:VEVENT
UID:5d4135a233aef30001acd966@squarespace.com
DTSTAMP:20190903T052139Z
DTSTART:20191016T203000Z
DTEND:20191016T213000Z
SUMMARY:Trauma Sensitive Yoga\, Option A - Remuera  (8-week course)
GEO:40.720756;-74.000761
LOCATION:Contemporary Yoga
END:VEVENT
END:VCALENDAR
