BEGIN:VCALENDAR
VERSION:2.0
PRODID:-//Squarespace Inc/Squarespace 6//v6//EN
BEGIN:VEVENT
UID:5d41368a11d0710001c8da75@squarespace.com
DTSTAMP:20190903T052122Z
DTSTART:20191015T153000Z
DTEND:20191015T163000Z
SUMMARY:Trauma Sensitive Yoga\, Option C - Brown's Bay (8-week course)
GEO:36.977869;-121.902196
LOCATION:Yoga Within
END:VEVENT
END:VCALENDAR
