BEGIN:VCALENDAR
VERSION:2.0
PRODID:-//Squarespace Inc/Squarespace 6//v6//EN
BEGIN:VEVENT
UID:5c608f98eef1a13325d78a48@squarespace.com
DTSTAMP:20190318T051540Z
DTSTART:20190502T161500Z
DTEND:20190502T171500Z
SUMMARY:iRest Yoga Meditation and Mindfulness for Men (8-week course)
GEO:-36.862785;174.734519
LOCATION:Sacred Space\, 56 Surrey Crescent\, Auckland\, Auckland\, 1021\, N
 ew Zealand
END:VEVENT
END:VCALENDAR
